BEGIN:VCALENDAR
VERSION:2.0
PRODID:KKTIX
CALSCALE:GREGORIAN
METHOD:PUBLISH
BEGIN:VTIMEZONE
TZID:Asia/Taipei
END:VTIMEZONE
BEGIN:VEVENT
DTSTAMP:20260421T180050Z
UID:e20c2725-85c6-4835-89ab-ff34a659d62e
DTSTART:20140928T080000Z
DTEND:20140928T130000Z
CLASS:PUBLIC
DESCRIPTION:https://herbmedicine.kktix.cc/events/3251f0e1
LOCATION: (台中市南屯區環中路四段2號) 潮港城國際美食館
SUMMARY:臺中市中國醫藥大學中國藥學暨中藥資源學系系友
 會第一屆第三次會員大會
END:VEVENT
END:VCALENDAR
